BEGIN:VCALENDAR
VERSION:2.0
PRODID:-//Kalender//
BEGIN:VEVENT
SUMMARY:SHK ChampionsCamp Sachsen 2026
DTSTART:20260629T093000Z
DTEND:20260701T110000Z
DTSTAMP:20260421T094725Z
UID:event_ical_kalender_293
DESCRIPTION:Der Fachverband SHK Sachsen und die Innung SHK Dresden organis
 ieren gemeinsam ein 3tägiges Ausbildungs- und Erlebniscamp für sächsisc
 he Auszubildende zum Anlagenmechaniker SHK. Hier finden Sie Impressionen d
 es 2025er Camps. Sehen Sie hier einen 6minütigen Beitrag von SHK-TV vom S
 HK ChampionsCamp 2019. Teilnahmeberechtigt sind Auszubildende zum Anlagenm
 echaniker SHK aus Innungsbetrieben im Fachverband SHK Sachsen oder der Inn
 ung SHK Dresden.
END:VEVENT
END:VCALENDAR
