BEGIN:VCALENDAR
VERSION:2.0
PRODID:-//Kalender//
BEGIN:VEVENT
SUMMARY:Prüfung Sachkunde gem. ChemKlimaSchutzV Kat. A1 inkl. Fachkunde U
 mgang mit brennbaren Kältemitteln gem. DIN EN 60335-2-40 für Tätigkeite
 n an Kälte- und Klimaanlagen sowie Wärmepumpen
DTSTART:20261027T070000Z
DTEND:20261029T160000Z
DTSTAMP:20260420T022327Z
UID:event_ical_eventmanagement_2202
DESCRIPTION:Das Interesse und der Einsatz von Wärmepumpen und Klimaanlage
 n steigt weiterhin an. Wärmepumpenheizungen und Klimaanlagen werden für 
 das SHK-Handwerk immer wichtiger. Wer Wärmepumpen (Split oder Monoblockge
 räte)\, Klimaanlagen und Kältekreisläufe mit fluorierten Treibhausgasen
  (z. B. R 410A oder R 32) montieren\, in Betrieb nehmen\, dabei auf Dichth
 eit prüfen\, instandhalten oder auch nach GEG § 60a prüfen will\, muss 
 gemäß § 5 ChemKlimaSchutzV einen Sachkundenachweis erbringen. Dies gilt
  auch für Inhaber eines alten Kältescheins bis 2008. Die Sächsische SHK
  Beratungs- und Vertriebsgesellschaft mbH bietet Ihnen ein Seminar mit Pr
 üfung zur Erlangung der gesetzlich geforderten Sachkundebescheinigung an.
  Nach erfolgreicher Ablegung der Prüfungen erhalten Sie die Sachkundebesc
 heinigungen. Die Kategorie A1 ist der „große Kälteschein“ ohne Füll
 mengenlimit. Das Seminar beinhaltet auch die Qualifikation für den Umgang
  mit brennbaren Kältemitteln gemäß BetrSichV\, DIN EN 378-4\, DIN EN 60
 335-2-40 und den Herstellervorgaben. Sie ist eine Voraussetzung zur Firmen
 zertifizierung und zum Bezug von Kältemitteln und Anlagen.  Zulassungsvo
 raussetzung zur Seminaranmeldung:  Personen mit Berufsabschluss: Anlagenm
 echaniker/in für Sanitär-\, Heizungs- und Klimatechnik\, Gas- und Wasser
 installateur/in\, Zentralheizungs- und Lüftungsbauer/in\, Ofen- und Lufth
 eizungsbauer/in\, Kachelofen- und Luftheizungsbauer/in\, Mechatroniker/in 
 für Kältetechnik\, Kälteanlagenbauer/in\, Elektroinstallateur/in\, Elek
 tromaschinenbauer/in\, Elektroniker/in (Fachrichtung Energie- und Gebäude
 technik)\, Elektroniker für Maschinen und Antriebstechnik\, Mechatroniker
 /in\, Metallbauer/in oder Personen\, die eine Eintragung in die Handwerksr
 olle der vorgenannten Berufe haben. Auch Personen die von dem Erfordernis 
 einer technischen oder handwerklichen Ausbildung durch die jeweils zustän
 dige Handwerkskammer oder Industrie- und Handelskammer befreit sind\, kön
 nen die Sachkunde erlangen. Die Nachweise hierzu sind immer als Kopie und 
 zum Abgleich im Original vorzulegen. Bei ausländischen Abschlüssen muss 
 eine beglaubigte Übersetzung in deutscher Sprache vorgelegt werden. Die T
 eilnehmenden benötigen ausreichende Sprachkenntnisse\, um die Inhalte eig
 enständig bearbeiten zu können sowie die Prüfungen eigenständig zu abs
 olvieren. Zusätzlich benötigen Sie einen Nachweis der mindestens 2-jähr
 igen beruflichen Erfahrung im Umgang mit Klima- und Kühlgeräten\, Wärme
 pumpen oder Kälteanlagen (schriftlicher Nachweis durch Arbeitgeber). Inha
 lte des praxisorientierten Online-Seminars sowie des 3-Tage Präsenzteils 
 sind u.a.: rechtliche Grundlagen\, Fachphysik\, Aufstellung\, Inbetriebnah
 me\, Dichtheitskontrollen\, Wartung\, Instandhaltung\, Absaugen\, Praxisun
 terweisungen\, Montage und Demontage des Kältewerkzeugs ohne Kältemittel
 verlust\, gesonderte Maßnahmen beim Umgang mit brennbaren Kältemitteln u
 nd die Sachkundeprüfung. Seminarablauf: Teil 1: Sie bereiten sich mit ein
 em Selbststudium intensiv vor. Eine individuelle Online-Erfolgskontrolle p
 rüft und gewährleistet Ihren Kenntnisstand. Die Zugangsdaten zur Online-
 Seminarplattform erhalten Sie spätestens 3 Wochen vor Seminarbeginn. Sie 
 benötigen dafür eine persönliche E-Mailadresse. Teil 2: Der 3-tägige P
 räsenzkurs beinhaltet die Prüfungsvorbereitung\, eine praktische Inbetri
 ebnahme und Instandhaltungsvorführung sowie die Ablegung der theoretische
 n und praktischen Prüfung. Wir empfehlen vorab Ihre Fähigkeiten im Flamm
 hartlöten aufzufrischen. Die erfolgreiche Ablegung des Seminarteils 1 ist
  die Zugangsvoraussetzung zur Teilnahme an Teil 2. Mit Ihrer Anmeldung bes
 tätigen Sie die Prüfungsordnung sowie die Verfahrensvorschrift zur Ertei
 lung der Sachkunde für Personal gem. § 5 ChemKlimaSchutzV gelesen und an
 erkannt zu haben. Außerdem gelten die AGB´ s der Sächsischen SHK Beratu
 ngs- und Vertriebsgesellschaft mbH. Die jeweils gültige Fassung finden Si
 e unter www.installateur.net. Die Durchführung des Seminars gilt vorbehal
 tlich der Genehmigung. Veranstalter ist die Sächsische SHK Beratungs- und
  Vertriebsgesellschaft mbH.   Preise: Mitglieder im Fachverband: 1.330\,0
 0 € Nicht-Mitglieder im Fachverband: 1.850\,00 €
LOCATION:Leipzig\, -\, Leipzig\, Deutschland
END:VEVENT
END:VCALENDAR
